BEGIN:VCALENDAR
VERSION:2.0
PRODID:-//Our Lady of Africa Church Mbuya Parish - ECPv6.15.15//NONSGML v1.0//EN
CALSCALE:GREGORIAN
METHOD:PUBLISH
X-WR-CALNAME:Our Lady of Africa Church Mbuya Parish
X-ORIGINAL-URL:https://ourladyofafrica.org
X-WR-CALDESC:Events for Our Lady of Africa Church Mbuya Parish
REFRESH-INTERVAL;VALUE=DURATION:PT1H
X-Robots-Tag:noindex
X-PUBLISHED-TTL:PT1H
BEGIN:VTIMEZONE
TZID:UTC
BEGIN:STANDARD
TZOFFSETFROM:+0000
TZOFFSETTO:+0000
TZNAME:UTC
DTSTART:20240101T000000
END:STANDARD
END:VTIMEZONE
BEGIN:VEVENT
DTSTART;TZID=UTC:20250803T000000
DTEND;TZID=UTC:20250803T000000
DTSTAMP:20260420T123724
CREATED:20240724T024241Z
LAST-MODIFIED:20250226T124542Z
UID:25365-1754179200-1754179200@ourladyofafrica.org
SUMMARY:Kinawataka Sub-Parish Pilgrimage to the Parish
DESCRIPTION:St. Joseph Mukasa Balikuddembe Sub-Parish Kinawataka \n 
URL:https://ourladyofafrica.org/event/st-joseph-mukasa-balikuddembe-sub-parish-kinawataka/
END:VEVENT
END:VCALENDAR