BEGIN:VCALENDAR
VERSION:2.0
PRODID:-//Our Lady of Africa Church Mbuya Parish - ECPv6.15.15//NONSGML v1.0//EN
CALSCALE:GREGORIAN
METHOD:PUBLISH
X-ORIGINAL-URL:https://ourladyofafrica.org
X-WR-CALDESC:Events for Our Lady of Africa Church Mbuya Parish
REFRESH-INTERVAL;VALUE=DURATION:PT1H
X-Robots-Tag:noindex
X-PUBLISHED-TTL:PT1H
BEGIN:VTIMEZONE
TZID:UTC
BEGIN:STANDARD
TZOFFSETFROM:+0000
TZOFFSETTO:+0000
TZNAME:UTC
DTSTART:20250101T000000
END:STANDARD
END:VTIMEZONE
BEGIN:VEVENT
DTSTART;VALUE=DATE:20260218
DTEND;VALUE=DATE:20260219
DTSTAMP:20260421T102738
CREATED:20260206T074426Z
LAST-MODIFIED:20260216T163444Z
UID:28289-1771372800-1771459199@ourladyofafrica.org
SUMMARY:ASH WEDNESDAY 2026
DESCRIPTION:ASH WEDNESDAY 2026 Program\nMass Program for Mbuya Main Church \n\n7:00am – English\n9:00am – English\n11:00am – English\n1:00pm – English\n5:30pm – English\n\nSUB-PARISH PROGRAMS \n\nBanda Sub-Parish – 7:00am\, 11:00am & 5:30pm\nKinawataka – 5:30pm\nSt. Julia – 6:30am & 5:30pm\nSt. Kizito Schools – 7:00am & 9:00am
URL:https://ourladyofafrica.org/event/ash-wednesday/
END:VEVENT
END:VCALENDAR