BEGIN:VCALENDAR
VERSION:2.0
PRODID:-//Our Lady of Africa Church Mbuya Parish - ECPv6.15.15//NONSGML v1.0//EN
CALSCALE:GREGORIAN
METHOD:PUBLISH
X-ORIGINAL-URL:https://ourladyofafrica.org
X-WR-CALDESC:Events for Our Lady of Africa Church Mbuya Parish
REFRESH-INTERVAL;VALUE=DURATION:PT1H
X-Robots-Tag:noindex
X-PUBLISHED-TTL:PT1H
BEGIN:VTIMEZONE
TZID:UTC
BEGIN:STANDARD
TZOFFSETFROM:+0000
TZOFFSETTO:+0000
TZNAME:UTC
DTSTART:20250101T000000
END:STANDARD
END:VTIMEZONE
BEGIN:VEVENT
DTSTART;TZID=UTC:20260305T100000
DTEND;TZID=UTC:20260305T130000
DTSTAMP:20260420T234832
CREATED:20260206T075029Z
LAST-MODIFIED:20260206T075029Z
UID:28295-1772704800-1772715600@ourladyofafrica.org
SUMMARY:Catechists Monthly Meeting
DESCRIPTION:Catechists Monthly Meeting
URL:https://ourladyofafrica.org/event/catechists-monthly-meeting/
END:VEVENT
END:VCALENDAR