BEGIN:VCALENDAR
VERSION:2.0
PRODID:-//Our Lady of Africa Church Mbuya Parish - ECPv6.15.15//NONSGML v1.0//EN
CALSCALE:GREGORIAN
METHOD:PUBLISH
X-WR-CALNAME:Our Lady of Africa Church Mbuya Parish
X-ORIGINAL-URL:https://ourladyofafrica.org
X-WR-CALDESC:Events for Our Lady of Africa Church Mbuya Parish
REFRESH-INTERVAL;VALUE=DURATION:PT1H
X-Robots-Tag:noindex
X-PUBLISHED-TTL:PT1H
BEGIN:VTIMEZONE
TZID:Africa/Nairobi
BEGIN:STANDARD
TZOFFSETFROM:+0300
TZOFFSETTO:+0300
TZNAME:EAT
DTSTART:20240101T000000
END:STANDARD
END:VTIMEZONE
BEGIN:VTIMEZONE
TZID:UTC
BEGIN:STANDARD
TZOFFSETFROM:+0000
TZOFFSETTO:+0000
TZNAME:UTC
DTSTART:20240101T000000
END:STANDARD
END:VTIMEZONE
BEGIN:VEVENT
DTSTART;TZID=Africa/Nairobi:20250713T130000
DTEND;TZID=Africa/Nairobi:20250713T140000
DTSTAMP:20260420T053732
CREATED:20240724T024140Z
LAST-MODIFIED:20250401T133820Z
UID:25342-1752411600-1752415200@ourladyofafrica.org
SUMMARY:Infant Baptism for July
DESCRIPTION:Infant Baptism for July \n\nBaptism Mass at 1:00pm\nParents and God Parents must attend Baptism Classes\nContact Prof. Patrick Ogwok – +256772647968 or +256754216202
URL:https://ourladyofafrica.org/event/infant-baptism-for-may-2/
END:VEVENT
BEGIN:VEVENT
DTSTART;TZID=UTC:20250713T070000
DTEND;TZID=UTC:20250713T170000
DTSTAMP:20260420T053732
CREATED:20240724T024226Z
LAST-MODIFIED:20250227T063727Z
UID:25361-1752390000-1752426000@ourladyofafrica.org
SUMMARY:Missionary Holy Childhood
DESCRIPTION:Missionary Holy Childhood Sunday
URL:https://ourladyofafrica.org/event/missionary-holy-childhood/
END:VEVENT
BEGIN:VEVENT
DTSTART;TZID=UTC:20250629T093000
DTEND;TZID=UTC:20250629T170000
DTSTAMP:20260420T053732
CREATED:20240724T024241Z
LAST-MODIFIED:20250227T053459Z
UID:25366-1751189400-1751216400@ourladyofafrica.org
SUMMARY:St. Paul Banda Sub-Parish Day
DESCRIPTION:St. Paul Banda Sub-Parish Day
URL:https://ourladyofafrica.org/event/st-paul-banda-sub-parish-day/
END:VEVENT
BEGIN:VEVENT
DTSTART;TZID=UTC:20250603T100000
DTEND;TZID=UTC:20250603T130000
DTSTAMP:20260420T053732
CREATED:20250504T150629Z
LAST-MODIFIED:20250527T135635Z
UID:27178-1748944800-1748955600@ourladyofafrica.org
SUMMARY:Uganda Martyrs Day Celebrations 2025
DESCRIPTION:Uganda Martyrs Day Celebrations 2025 \n\nNamugongo Martyrs Shrine\nHoly Mass will start at Namugongo at 10:00am\nIt will be Livestreamed for those who are not Traveling to Namugongo. Below is the MASS LINK
URL:https://ourladyofafrica.org/event/uganda-martyrs-day-celebrations-2025/
LOCATION:Uganda Martyrs Shrine Namugongo\, P.O BOX 6562\, kampala\, Kampala\, 256\, Uganda
END:VEVENT
BEGIN:VEVENT
DTSTART;TZID=UTC:20250601T140000
DTEND;TZID=UTC:20250601T183000
DTSTAMP:20260420T053732
CREATED:20240724T024241Z
LAST-MODIFIED:20250226T124054Z
UID:25364-1748786400-1748802600@ourladyofafrica.org
SUMMARY:Marian / Martyrs Concert
DESCRIPTION:St. Joseph Mukasa Kinawataka Sub-Parish \n\nOrganized by Immaculate Conception Choir Kinawataka
URL:https://ourladyofafrica.org/event/marian-martyrs-concert/
END:VEVENT
BEGIN:VEVENT
DTSTART;TZID=Africa/Nairobi:20250601T130000
DTEND;TZID=Africa/Nairobi:20250601T140000
DTSTAMP:20260420T053732
CREATED:20240724T024140Z
LAST-MODIFIED:20250401T133354Z
UID:25341-1748782800-1748786400@ourladyofafrica.org
SUMMARY:Infant Baptism Mass
DESCRIPTION:Infant Baptism Mass \n\nDuring the 1:00pm Mass\nParents and Godparents must have attended Baptism Classes\nContact Prof. Patrick Ogwok – +256772647968 or +256754216202
URL:https://ourladyofafrica.org/event/infant-baptism-mass-2/
END:VEVENT
BEGIN:VEVENT
DTSTART;TZID=UTC:20250525T000000
DTEND;TZID=UTC:20250525T000000
DTSTAMP:20260420T053732
CREATED:20240724T024241Z
LAST-MODIFIED:20250227T053740Z
UID:25367-1748131200-1748131200@ourladyofafrica.org
SUMMARY:St. Paul Banda Pilgrimage to the Parish
DESCRIPTION:St. Paul Banda Pilgrimage to the Parish
URL:https://ourladyofafrica.org/event/st-paul-banda-pilgrimage-to-the-parish/
END:VEVENT
BEGIN:VEVENT
DTSTART;TZID=Africa/Nairobi:20250511T130000
DTEND;TZID=Africa/Nairobi:20250511T140000
DTSTAMP:20260420T053732
CREATED:20240724T024140Z
LAST-MODIFIED:20250402T114825Z
UID:25340-1746968400-1746972000@ourladyofafrica.org
SUMMARY:Infant Baptism for May
DESCRIPTION:Infant Baptism for May \n\nBaptism Mass at 1:00pm\nParents and God Parents must attend Baptism Classes\nContact Prof. Patrick Ogwok – +256772647968 or +256754216202
URL:https://ourladyofafrica.org/event/infant-baptism-for-may/
END:VEVENT
BEGIN:VEVENT
DTSTART;TZID=UTC:20250504T070000
DTEND;TZID=UTC:20250504T170000
DTSTAMP:20260420T053732
CREATED:20240724T024141Z
LAST-MODIFIED:20250227T135156Z
UID:25345-1746342000-1746378000@ourladyofafrica.org
SUMMARY:3rd Sunday of Easter
DESCRIPTION:3rd Sunday of Easter
URL:https://ourladyofafrica.org/event/3rd-sunday-of-easter/
END:VEVENT
BEGIN:VEVENT
DTSTART;VALUE=DATE:20250503
DTEND;VALUE=DATE:20250504
DTSTAMP:20260420T053732
CREATED:20250427T111733Z
LAST-MODIFIED:20250427T111757Z
UID:27133-1746230400-1746316799@ourladyofafrica.org
SUMMARY:Liturgy Workshop (Naguru Deanery)
DESCRIPTION:Liturgy Workshop (Naguru Deanery) – Kampala Archdiocese \n\nUshers\nCatechists\nSacristians\nChoir Members\nMedia Team\nAudio & Visual technical teams\nLectors\nAltar Servers
URL:https://ourladyofafrica.org/event/liturgy-workshop-naguru-deanery/
LOCATION:Our Lady of Africa Kindergarten Hall\, P.O BOX 6562\, kampala\, Kampala\, 256\, Uganda
END:VEVENT
BEGIN:VEVENT
DTSTART;TZID=UTC:20250501T000000
DTEND;TZID=UTC:20250501T000000
DTSTAMP:20260420T053732
CREATED:20240724T024141Z
LAST-MODIFIED:20250227T134131Z
UID:25344-1746057600-1746057600@ourladyofafrica.org
SUMMARY:Feast of St. Joseph the Worker (Labour Day)
DESCRIPTION:Feast of St. Joseph the Worker (Labour Day) \n\nMorning Mass 7:00am\nMass for blessing working tools 10:00am – Mbuya Catholic Workers.\nLunch Hour Mass 1:00pm
URL:https://ourladyofafrica.org/event/feast-of-st-joseph-the-worker/
END:VEVENT
BEGIN:VEVENT
DTSTART;TZID=UTC:20250430T070000
DTEND;TZID=UTC:20250430T130000
DTSTAMP:20260420T053732
CREATED:20240724T024156Z
LAST-MODIFIED:20250421T120551Z
UID:25352-1745996400-1746018000@ourladyofafrica.org
SUMMARY:Feast day for Our Lady of Africa
DESCRIPTION:Feast day for Our Lady of Africa \n 
URL:https://ourladyofafrica.org/event/feast-day-for-our-lady-of-africa/
ATTACH;FMTTYPE=image/jpeg:https://ourladyofafrica.org/wp-content/uploads/2024/07/Lady-of-Africa.jpg
END:VEVENT
BEGIN:VEVENT
DTSTART;TZID=UTC:20250427T070000
DTEND;TZID=UTC:20250427T170000
DTSTAMP:20260420T053732
CREATED:20240724T024156Z
LAST-MODIFIED:20250416T091724Z
UID:25351-1745737200-1745773200@ourladyofafrica.org
SUMMARY:Divine Mercy Sunday
DESCRIPTION:Divine Mercy Sunday
URL:https://ourladyofafrica.org/event/divine-mercy-sunday/
ATTACH;FMTTYPE=image/jpeg:https://ourladyofafrica.org/wp-content/uploads/2024/07/Divine-mercy.jpg
END:VEVENT
BEGIN:VEVENT
DTSTART;TZID=UTC:20250426T010000
DTEND;TZID=UTC:20250426T120000
DTSTAMP:20260420T053732
CREATED:20240724T024141Z
LAST-MODIFIED:20250416T093726Z
UID:25347-1745629200-1745668800@ourladyofafrica.org
SUMMARY:Priestly Ordination for Deacon Jude
DESCRIPTION:
URL:https://ourladyofafrica.org/event/priestly-ordination-for-deacon-jude/
ATTACH;FMTTYPE=image/jpeg:https://ourladyofafrica.org/wp-content/uploads/2024/05/364629126_304671932072356_1122225290998478341_n.jpg
END:VEVENT
BEGIN:VEVENT
DTSTART;TZID=UTC:20250421T070000
DTEND;TZID=UTC:20250421T090000
DTSTAMP:20260420T053732
CREATED:20240724T024211Z
LAST-MODIFIED:20250227T091832Z
UID:25353-1745218800-1745226000@ourladyofafrica.org
SUMMARY:Easter Monday
DESCRIPTION:Easter Monday \n\n7:00am Mass in English (Mbuya)\n9:00am Mass in English & Infant Baptisms (Mbuya)\nKampala Archdiocese Altar Server’s Day at Rubaga Cathedral 10:00am
URL:https://ourladyofafrica.org/event/easter-monday/
END:VEVENT
BEGIN:VEVENT
DTSTART;TZID=UTC:20250420T070000
DTEND;TZID=UTC:20250420T170000
DTSTAMP:20260420T053732
CREATED:20240724T024241Z
LAST-MODIFIED:20250416T092529Z
UID:25363-1745132400-1745168400@ourladyofafrica.org
SUMMARY:Easter Sunday (The Ressurrection)
DESCRIPTION:Easter Sunday
URL:https://ourladyofafrica.org/event/easter-sunday/
ATTACH;FMTTYPE=image/jpeg:https://ourladyofafrica.org/wp-content/uploads/2024/07/Ressurrection.jpg
END:VEVENT
BEGIN:VEVENT
DTSTART;TZID=UTC:20250419T180000
DTEND;TZID=UTC:20250419T193000
DTSTAMP:20260420T053732
CREATED:20240724T024141Z
LAST-MODIFIED:20250416T093419Z
UID:25346-1745085600-1745091000@ourladyofafrica.org
SUMMARY:Easter Vigil Carols - The Betrayal
DESCRIPTION:Easter Vigil Carols – The Betrayal \n\nOur Lady of Africa Choir Mbuya\nVenue: Our Lady of Africa Church Mbuya
URL:https://ourladyofafrica.org/event/novena-prayer-for-parish-day-day-7/
LOCATION:Our Lady of Africa Church Mbuya\, P.O BOX 6562\, kampala\, Kampala\, 256\, Uganda
ATTACH;FMTTYPE=image/jpeg:https://ourladyofafrica.org/wp-content/uploads/2024/07/WhatsApp-Image-2025-04-16-at-12.30.41.jpeg
ORGANIZER;CN="Our Lady of Africa Choir Mbuya":MAILTO:olac@ourladyofafrica.org
END:VEVENT
BEGIN:VEVENT
DTSTART;VALUE=DATE:20250419
DTEND;VALUE=DATE:20250420
DTSTAMP:20260420T053732
CREATED:20240714T024256Z
LAST-MODIFIED:20250416T091318Z
UID:25368-1745020800-1745107199@ourladyofafrica.org
SUMMARY:Easter Vigil (Holy Saturday)
DESCRIPTION:Easter Vigil (Holy Saturday) \n\nNo Morning Mass\nEaster Vigil Carols by Our Lady of Africa Choir Mbuya (OLAC) 6:00pm\nEaster Vigil Mass Celebrations at 8:00pm by His Excellency Archbishop Luigi Bianco\, Apostolic Nuncio to Uganda.
URL:https://ourladyofafrica.org/event/easter-vigil/
CATEGORIES:church
ATTACH;FMTTYPE=image/jpeg:https://ourladyofafrica.org/wp-content/uploads/2024/07/WhatsApp-Image-2025-04-16-at-08.45.29.jpeg
END:VEVENT
BEGIN:VEVENT
DTSTART;VALUE=DATE:20250418
DTEND;VALUE=DATE:20250419
DTSTAMP:20260420T053732
CREATED:20240724T075629Z
LAST-MODIFIED:20250416T091106Z
UID:25409-1744934400-1745020799@ourladyofafrica.org
SUMMARY:Good Friday (The Passion of the Lord)
DESCRIPTION:No Morning Mass\nPublic Way of the Cross starts at 7:00am\nVeneration of the Cross at 3:00pm\nThe Stations for the Public Way of the Cross for Mbuya Parish
URL:https://ourladyofafrica.org/event/17th-sunday-of-ordinary-time-2/
CATEGORIES:church
ATTACH;FMTTYPE=image/jpeg:https://ourladyofafrica.org/wp-content/uploads/2024/07/WhatsApp-Image-2025-04-16-at-10.01.05.jpeg
END:VEVENT
BEGIN:VEVENT
DTSTART;VALUE=DATE:20250417
DTEND;VALUE=DATE:20250418
DTSTAMP:20260420T053732
CREATED:20240724T075458Z
LAST-MODIFIED:20250416T090834Z
UID:25329-1744848000-1744934399@ourladyofafrica.org
SUMMARY:Holy Thursday (The Lord's Supper)
DESCRIPTION:No Morning Mass\nChrism Mass at Rubaga Cathedral for All priests from Kampala Archdiocese – 9:00am\nThe Lord’s Supper (Mass) 5:30pm\nAdoration of the Blessed Sacrament (6:30pm – 6:30am)
URL:https://ourladyofafrica.org/event/holy-thursday/
CATEGORIES:church
ATTACH;FMTTYPE=image/jpeg:https://ourladyofafrica.org/wp-content/uploads/2024/07/Holy-Thursday.jpeg
END:VEVENT
BEGIN:VEVENT
DTSTART;TZID=UTC:20250413T133000
DTEND;TZID=UTC:20250413T190000
DTSTAMP:20260420T053732
CREATED:20250306T084943Z
LAST-MODIFIED:20250306T084943Z
UID:26663-1744551000-1744570800@ourladyofafrica.org
SUMMARY:Holy Trinity Choir Banda Annual Concert
DESCRIPTION:Holy Trinity Choir Annual Concert  \n\nConcert will be at St. Paul Catholic Church Banda\nTHEME: “WHO IS THE KING OF GLORY?”\nPurpose for Concert: Purchase a Sound System\nAffiliate choirs and Youth Groups outside and within Kampala and Wakiso District\nContact person: Chairperson: 0706340223 or hotricho02@gmail.com
URL:https://ourladyofafrica.org/event/holy-trinity-choir-banda-annual-concert/
END:VEVENT
BEGIN:VEVENT
DTSTART;VALUE=DATE:20250413
DTEND;VALUE=DATE:20250414
DTSTAMP:20260420T053732
CREATED:20240724T024137Z
LAST-MODIFIED:20250225T133316Z
UID:25337-1744502400-1744588799@ourladyofafrica.org
SUMMARY:Palm Sunday
DESCRIPTION:Mass Schedule:  \n\n7:00am -Luganda\n9:00am – English\n11:00am – English\n1:00pm – English\n5:00pm – English
URL:https://ourladyofafrica.org/event/palm-sunday/
END:VEVENT
BEGIN:VEVENT
DTSTART;TZID=UTC:20250413T000000
DTEND;TZID=UTC:20250413T000000
DTSTAMP:20260420T053732
CREATED:20240724T024226Z
LAST-MODIFIED:20250227T060520Z
UID:25359-1744502400-1744502400@ourladyofafrica.org
SUMMARY:Mbuya Music\, Dance & Drama Competitions - Youth
DESCRIPTION:Mbuya Music\, Dance & Drama Competitions
URL:https://ourladyofafrica.org/event/mbuya-music-dance-drama-competitions/
END:VEVENT
BEGIN:VEVENT
DTSTART;TZID=UTC:20250406T070000
DTEND;TZID=UTC:20250406T170000
DTSTAMP:20260420T053732
CREATED:20240724T024141Z
LAST-MODIFIED:20250227T133715Z
UID:25343-1743922800-1743958800@ourladyofafrica.org
SUMMARY:5th Sunday of Lent
DESCRIPTION:5th Sunday of Lent
URL:https://ourladyofafrica.org/event/5th-sunday-of-lent/
END:VEVENT
BEGIN:VEVENT
DTSTART;TZID=UTC:20250330T070000
DTEND;TZID=UTC:20250330T170000
DTSTAMP:20260420T053732
CREATED:20240724T024156Z
LAST-MODIFIED:20250227T132322Z
UID:25350-1743318000-1743354000@ourladyofafrica.org
SUMMARY:4th Sunday of Lent
DESCRIPTION:4th Sunday of Lent
URL:https://ourladyofafrica.org/event/4th-sunday-of-lent/
END:VEVENT
BEGIN:VEVENT
DTSTART;TZID=UTC:20250325T070000
DTEND;TZID=UTC:20250325T130000
DTSTAMP:20260420T053732
CREATED:20240724T024156Z
LAST-MODIFIED:20250227T132135Z
UID:25349-1742886000-1742907600@ourladyofafrica.org
SUMMARY:Annunciation of Our Lady
DESCRIPTION:Annunciation of Our Lady
URL:https://ourladyofafrica.org/event/annunciation-of-our-lady/
END:VEVENT
BEGIN:VEVENT
DTSTART;TZID=UTC:20250323T070000
DTEND;TZID=UTC:20250323T170000
DTSTAMP:20260420T053732
CREATED:20240724T024156Z
LAST-MODIFIED:20250227T131859Z
UID:25348-1742713200-1742749200@ourladyofafrica.org
SUMMARY:3rd Sunday of Lent
DESCRIPTION:3rd Sunday of Lent
URL:https://ourladyofafrica.org/event/3rd-sunday-of-lent/
END:VEVENT
BEGIN:VEVENT
DTSTART;TZID=UTC:20250321T053000
DTEND;TZID=UTC:20250321T063000
DTSTAMP:20260420T053732
CREATED:20240724T024140Z
LAST-MODIFIED:20250319T131350Z
UID:25338-1742535000-1742538600@ourladyofafrica.org
SUMMARY:Lenten Way of the Cross
DESCRIPTION:Lenten Way of the Cross
URL:https://ourladyofafrica.org/event/lenten-way-of-the-cross/
END:VEVENT
BEGIN:VEVENT
DTSTART;TZID=UTC:20250316T070000
DTEND;TZID=UTC:20250316T170000
DTSTAMP:20260420T053732
CREATED:20240724T024211Z
LAST-MODIFIED:20250227T132716Z
UID:25357-1742108400-1742144400@ourladyofafrica.org
SUMMARY:2nd Sunday of Lent
DESCRIPTION:2nd Sunday of Lent
URL:https://ourladyofafrica.org/event/2nd-sunday-of-lent/
END:VEVENT
BEGIN:VEVENT
DTSTART;TZID=UTC:20250309T070000
DTEND;TZID=UTC:20250309T170000
DTSTAMP:20260420T053732
CREATED:20240724T024211Z
LAST-MODIFIED:20250227T124023Z
UID:25356-1741503600-1741539600@ourladyofafrica.org
SUMMARY:1st Sunday of Lent
DESCRIPTION:1st Sunday of Lent
URL:https://ourladyofafrica.org/event/1st-sunday-of-lent/
END:VEVENT
END:VCALENDAR