BEGIN:VCALENDAR
VERSION:2.0
PRODID:-//Our Lady of Africa Church Mbuya Parish - ECPv6.15.15//NONSGML v1.0//EN
CALSCALE:GREGORIAN
METHOD:PUBLISH
X-WR-CALNAME:Our Lady of Africa Church Mbuya Parish
X-ORIGINAL-URL:https://ourladyofafrica.org
X-WR-CALDESC:Events for Our Lady of Africa Church Mbuya Parish
REFRESH-INTERVAL;VALUE=DURATION:PT1H
X-Robots-Tag:noindex
X-PUBLISHED-TTL:PT1H
BEGIN:VTIMEZONE
TZID:UTC
BEGIN:STANDARD
TZOFFSETFROM:+0000
TZOFFSETTO:+0000
TZNAME:UTC
DTSTART:20250101T000000
END:STANDARD
END:VTIMEZONE
BEGIN:VEVENT
DTSTART;TZID=UTC:20260501T200000
DTEND;TZID=UTC:20260531T203000
DTSTAMP:20260419T132232
CREATED:20260206T135242Z
LAST-MODIFIED:20260206T135242Z
UID:28342-1777665600-1780259400@ourladyofafrica.org
SUMMARY:MAY - Month of the Rosary
DESCRIPTION:MAY – Month of the Rosary \n\nRecitation of the Rosary at 8:00pm daily ONLINE using zoom\, facebook and Youtube
URL:https://ourladyofafrica.org/event/may-month-of-the-rosary/
END:VEVENT
END:VCALENDAR