BEGIN:VCALENDAR
VERSION:2.0
PRODID:-//Our Lady of Africa Church Mbuya Parish - ECPv6.15.15//NONSGML v1.0//EN
CALSCALE:GREGORIAN
METHOD:PUBLISH
X-WR-CALNAME:Our Lady of Africa Church Mbuya Parish
X-ORIGINAL-URL:https://ourladyofafrica.org
X-WR-CALDESC:Events for Our Lady of Africa Church Mbuya Parish
REFRESH-INTERVAL;VALUE=DURATION:PT1H
X-Robots-Tag:noindex
X-PUBLISHED-TTL:PT1H
BEGIN:VTIMEZONE
TZID:UTC
BEGIN:STANDARD
TZOFFSETFROM:+0000
TZOFFSETTO:+0000
TZNAME:UTC
DTSTART:20240101T000000
END:STANDARD
END:VTIMEZONE
BEGIN:VTIMEZONE
TZID:Africa/Nairobi
BEGIN:STANDARD
TZOFFSETFROM:+0300
TZOFFSETTO:+0300
TZNAME:EAT
DTSTART:20240101T000000
END:STANDARD
END:VTIMEZONE
BEGIN:VEVENT
DTSTART;TZID=UTC:20260301T110000
DTEND;TZID=UTC:20260301T130000
DTSTAMP:20260419T165023
CREATED:20260206T074846Z
LAST-MODIFIED:20260206T074846Z
UID:28293-1772362800-1772370000@ourladyofafrica.org
SUMMARY:Parish Pastoral Council Meeting
DESCRIPTION:Parish Pastoral Council Meeting \n\n2nd Sunday of Lent
URL:https://ourladyofafrica.org/event/parish-pastoral-council-meeting/
END:VEVENT
BEGIN:VEVENT
DTSTART;TZID=UTC:20260228T150000
DTEND;TZID=UTC:20260228T170000
DTSTAMP:20260419T165023
CREATED:20260205T140048Z
LAST-MODIFIED:20260205T140559Z
UID:28221-1772290800-1772298000@ourladyofafrica.org
SUMMARY:Baptism Instructions for Infant
DESCRIPTION:Baptism Instructions for Infant \n\nInstruction of Parents and Godparents at 3:00pm in the Comboni Conference Hall.\nGodparents must be at least 16 years old\, confirmed Roman Catholics\, and living in harmony with the Catholic Faith.\nChoose Christian names for your child from the directory of saints.\nBaptism instructions are held every 1st and 2nd Saturday at 3:00 pm.\nInfant baptism Mass is held every second Sunday during the 1:00 pm Mass.
URL:https://ourladyofafrica.org/event/baptism-instructions-for-infant/
END:VEVENT
BEGIN:VEVENT
DTSTART;TZID=UTC:20260222T110000
DTEND;TZID=UTC:20260222T130000
DTSTAMP:20260419T165023
CREATED:20260206T074637Z
LAST-MODIFIED:20260206T074637Z
UID:28291-1771758000-1771765200@ourladyofafrica.org
SUMMARY:Parish Executive Meeting
DESCRIPTION:Parish Executive Meeting \n\n1st Sunday of Lent
URL:https://ourladyofafrica.org/event/parish-executive-meeting/
END:VEVENT
BEGIN:VEVENT
DTSTART;VALUE=DATE:20260218
DTEND;VALUE=DATE:20260219
DTSTAMP:20260419T165023
CREATED:20260206T074426Z
LAST-MODIFIED:20260216T163444Z
UID:28289-1771372800-1771459199@ourladyofafrica.org
SUMMARY:ASH WEDNESDAY 2026
DESCRIPTION:ASH WEDNESDAY 2026 Program\nMass Program for Mbuya Main Church \n\n7:00am – English\n9:00am – English\n11:00am – English\n1:00pm – English\n5:30pm – English\n\nSUB-PARISH PROGRAMS \n\nBanda Sub-Parish – 7:00am\, 11:00am & 5:30pm\nKinawataka – 5:30pm\nSt. Julia – 6:30am & 5:30pm\nSt. Kizito Schools – 7:00am & 9:00am
URL:https://ourladyofafrica.org/event/ash-wednesday/
END:VEVENT
BEGIN:VEVENT
DTSTART;TZID=UTC:20260215T080000
DTEND;TZID=UTC:20260215T170000
DTSTAMP:20260419T165023
CREATED:20260206T074048Z
LAST-MODIFIED:20260206T074155Z
UID:28284-1771142400-1771174800@ourladyofafrica.org
SUMMARY:Sub-Parish Council Meeting
DESCRIPTION:Sub-Parish Council Meeting \n\n6th Sunday in Ordinary Time\nAll the Sub-Parishes of Mbuya Parish will have their Executive Meeting in preparation for the Parish Executive and Pastoral Council Meetings.
URL:https://ourladyofafrica.org/event/sub-parish-council-meeting/
LOCATION:In the various Sub-Parishes
END:VEVENT
BEGIN:VEVENT
DTSTART;TZID=UTC:20260211T050000
DTEND;TZID=UTC:20260211T190000
DTSTAMP:20260419T165023
CREATED:20260206T073626Z
LAST-MODIFIED:20260206T073626Z
UID:28281-1770786000-1770836400@ourladyofafrica.org
SUMMARY:Mbuya Youth Monthly Mass
DESCRIPTION:Mbuya Youth Monthly Mass
URL:https://ourladyofafrica.org/event/mbuya-youth-monthly-mass/
END:VEVENT
BEGIN:VEVENT
DTSTART;VALUE=DATE:20260208
DTEND;VALUE=DATE:20260209
DTSTAMP:20260419T165023
CREATED:20260205T141804Z
LAST-MODIFIED:20260206T072511Z
UID:28242-1770508800-1770595199@ourladyofafrica.org
SUMMARY:5th Sunday in Ordinary Time
DESCRIPTION:5th Sunday in Ordinary Time \nSunday Masses at Mbuya: \n\n7:00am in Luganda\n9:00am in English\n11:00am in English\n1:00pm in English\n5;00pm in English\n\nSunday Online Masses: (Church Youtube Channel) \n\n7:00am in Luganda\n9:00am in English\n11:00am in English
URL:https://ourladyofafrica.org/event/baptism-instructions-for-infant-2/
END:VEVENT
BEGIN:VEVENT
DTSTART;TZID=UTC:20260206T080000
DTEND;TZID=UTC:20260206T170000
DTSTAMP:20260419T165023
CREATED:20260206T081236Z
LAST-MODIFIED:20260206T081236Z
UID:28310-1770364800-1770397200@ourladyofafrica.org
SUMMARY:PALM SUNDAY
DESCRIPTION:PALM SUNDAY of the Lord’s Passion \nMass Schedule: \n\n7:00am in Luganda (also ONLINE)\n9:00am in English (also ONLINE)\n11:00am in English (also ONLINE)\n1:00pm in English\n5:00pm in English\n\nREMEMBER TO COME WITH YOUR PALMS.
URL:https://ourladyofafrica.org/event/palm-sunday-2/
END:VEVENT
BEGIN:VEVENT
DTSTART;TZID=UTC:20260206T080000
DTEND;TZID=UTC:20260206T170000
DTSTAMP:20260419T165023
CREATED:20260206T075905Z
LAST-MODIFIED:20260206T075905Z
UID:28301-1770364800-1770397200@ourladyofafrica.org
SUMMARY:RECOLLECTION FOR CATECHISTS
DESCRIPTION:RECOLLECTION FOR CATECHISTS \n\nBaptism instructions (Infant Baptism)\n\n 
URL:https://ourladyofafrica.org/event/recollection-for-catechists/
END:VEVENT
BEGIN:VEVENT
DTSTART;VALUE=DATE:20260101
DTEND;VALUE=DATE:20260103
DTSTAMP:20260419T165023
CREATED:20251231T155826Z
LAST-MODIFIED:20251231T160301Z
UID:27914-1767225600-1767398399@ourladyofafrica.org
SUMMARY:NEW YEAR'S MASS PROGRAM
DESCRIPTION:Masses are at the following times; \n\n7:00AM – In Luganda\n9:00AM – In English\n11:00AM – In English\n1:00PM – In English\n5:00PM – In English\nONLINE CHURCH OPTIONS\n7:00AM In Luganda  – click here MBUYA ONLINE MASS\n9:00AM – In English – Click here MBUYA ONLINE MASS\n9:00AM – In English – Click here MBUYA ONLINE MASS
URL:https://ourladyofafrica.org/event/new-years-mass-program/
END:VEVENT
BEGIN:VEVENT
DTSTART;TZID=UTC:20251231T080000
DTEND;TZID=UTC:20251231T170000
DTSTAMP:20260419T165023
CREATED:20251231T153934Z
LAST-MODIFIED:20251231T160913Z
UID:27909-1767168000-1767200400@ourladyofafrica.org
SUMMARY:NEW YEAR'S EVE
DESCRIPTION:Mbuya Parish New Year Eve Program\nHoly Mass at 10:00pm Click here for Online Mass MBUYA PARISH NEW YEAR VIGIL ONLINE
URL:https://ourladyofafrica.org/event/new-years-eve/
END:VEVENT
BEGIN:VEVENT
DTSTART;TZID=Africa/Nairobi:20251226T090000
DTEND;TZID=Africa/Nairobi:20251226T120000
DTSTAMP:20260419T165023
CREATED:20250401T135839Z
LAST-MODIFIED:20250401T135839Z
UID:26832-1766739600-1766750400@ourladyofafrica.org
SUMMARY:Infant Baptism for December (Boxing Day)
DESCRIPTION:Infant Baptism for December \n\nBaptism Mass after 9:00am Mass (Boxing Day)\nParents and God Parents must attend Baptism Classes\nContact Prof. Patrick Ogwok – +256772647968 or +256754216202
URL:https://ourladyofafrica.org/event/infant-baptism-for-december-boxing-day/
END:VEVENT
BEGIN:VEVENT
DTSTART;TZID=Africa/Nairobi:20251214T130000
DTEND;TZID=Africa/Nairobi:20251214T140000
DTSTAMP:20260419T165023
CREATED:20250401T135559Z
LAST-MODIFIED:20250401T135559Z
UID:26830-1765717200-1765720800@ourladyofafrica.org
SUMMARY:Infant Baptism for December
DESCRIPTION:Infant Baptism for October \n\nBaptism Mass at 1:00pm\nParents and God Parents must attend Baptism Classes\nContact Prof. Patrick Ogwok – +256772647968 or +256754216202
URL:https://ourladyofafrica.org/event/infant-baptism-for-december/
END:VEVENT
BEGIN:VEVENT
DTSTART;TZID=UTC:20251207T160000
DTEND;TZID=UTC:20251207T190000
DTSTAMP:20260419T165023
CREATED:20251201T112224Z
LAST-MODIFIED:20251201T113619Z
UID:27862-1765123200-1765134000@ourladyofafrica.org
SUMMARY:REMEMBER ME CONCERT
DESCRIPTION:REMEMBER ME CONCERT 2025\n\nWHEN? 7th December 2025\nVENUE: Our Lady of Africa Kindergarten Hall Mbuya\nTime: 4:00pm\nTICKETS: Table of 5 – Uganda Shillings 500\,000\n                 VIP  –  Uganda Shillings 50\,000\n          Ordinary – Uganda Shillings 20\,000\n\nFor more information contact Joseph Lutwa (Chairman) on +256702337711 \n\nFor online ticket Reservations and payments kindly use this link below! You will also be able to watch the show line on youtube using the same link. https://url-shortener.me/19DT
URL:https://ourladyofafrica.org/event/remember-me-concert/
LOCATION:Our Lady of Africa Kindergarten Hall\, P.O BOX 6562\, kampala\, Kampala\, 256\, Uganda
CATEGORIES:church
END:VEVENT
BEGIN:VEVENT
DTSTART;TZID=UTC:20251116T100000
DTEND;TZID=UTC:20251116T170000
DTSTAMP:20260419T165023
CREATED:20240724T024226Z
LAST-MODIFIED:20250227T060207Z
UID:25358-1763287200-1763312400@ourladyofafrica.org
SUMMARY:Kinawataka Sub-Parish Day
DESCRIPTION:St. Joseph Mukasa Balikuddembe Kinawataka Sub-Parish Day Celebrations
URL:https://ourladyofafrica.org/event/kinawataka-sub-parish-day/
END:VEVENT
BEGIN:VEVENT
DTSTART;TZID=Africa/Nairobi:20251109T130000
DTEND;TZID=Africa/Nairobi:20251109T140000
DTSTAMP:20260419T165023
CREATED:20240724T024137Z
LAST-MODIFIED:20250401T135314Z
UID:25336-1762693200-1762696800@ourladyofafrica.org
SUMMARY:Infant Baptism for November
DESCRIPTION:Infant Baptism for October \n\nBaptism Mass at 1:00pm\nParents and God Parents must attend Baptism Classes\nContact Prof. Patrick Ogwok – +256772647968 or +256754216202
URL:https://ourladyofafrica.org/event/infant-baptism-for-november/
END:VEVENT
BEGIN:VEVENT
DTSTART;TZID=Africa/Nairobi:20251012T130000
DTEND;TZID=Africa/Nairobi:20251012T140000
DTSTAMP:20260419T165023
CREATED:20240724T024137Z
LAST-MODIFIED:20250401T134513Z
UID:25335-1760274000-1760277600@ourladyofafrica.org
SUMMARY:Infant Baptism for October
DESCRIPTION:Infant Baptism for October \n\nBaptism Mass at 1:00pm\nParents and God Parents must attend Baptism Classes\nContact Prof. Patrick Ogwok – +256772647968 or +256754216202
URL:https://ourladyofafrica.org/event/infant-baptism-for-october/
END:VEVENT
BEGIN:VEVENT
DTSTART;TZID=UTC:20250921T140000
DTEND;TZID=UTC:20250921T190000
DTSTAMP:20260419T165023
CREATED:20250805T180729Z
LAST-MODIFIED:20250805T180845Z
UID:27586-1758463200-1758481200@ourladyofafrica.org
SUMMARY:Bamutenda Batya Concert
DESCRIPTION:BAMUTENDA BATYA Concert \n\nSt. Cecilia Choir Mbuya\n21st September 2025\nstarting: 2:00pm\nVenue: Rivonia Suites\, Mbuya
URL:https://ourladyofafrica.org/event/bamutenda-batya-concert/
LOCATION:Rivonia Suites Mbuya\, 256\, Uganda
CATEGORIES:Musical Concert
END:VEVENT
BEGIN:VEVENT
DTSTART;TZID=Africa/Nairobi:20250914T130000
DTEND;TZID=Africa/Nairobi:20250914T140000
DTSTAMP:20260419T165023
CREATED:20240724T024137Z
LAST-MODIFIED:20250401T134320Z
UID:25334-1757854800-1757858400@ourladyofafrica.org
SUMMARY:Infant Baptism for September
DESCRIPTION:Infant Baptism for September \n\nBaptism Mass at 1:00pm\nParents and God Parents must attend Baptism Classes\nContact Prof. Patrick Ogwok – +256772647968 or +256754216202
URL:https://ourladyofafrica.org/event/infant-baptism-for-september/
END:VEVENT
BEGIN:VEVENT
DTSTART;TZID=UTC:20250914T000000
DTEND;TZID=UTC:20250914T000000
DTSTAMP:20260419T165023
CREATED:20240724T024226Z
LAST-MODIFIED:20250227T081120Z
UID:25362-1757808000-1757808000@ourladyofafrica.org
SUMMARY:Feast of the Exaltation of the Holy Cross
DESCRIPTION:Feast of the Exaltation of the Holy Cross
URL:https://ourladyofafrica.org/event/feast-of-the-exaltation-of-the-holy-cross/
END:VEVENT
BEGIN:VEVENT
DTSTART;VALUE=DATE:20250817
DTEND;VALUE=DATE:20250818
DTSTAMP:20260419T165023
CREATED:20240724T075836Z
LAST-MODIFIED:20250504T153016Z
UID:25411-1755388800-1755475199@ourladyofafrica.org
SUMMARY:Mbuya Parish Day Celebrations
DESCRIPTION:Mbuya Parish Day Celebrations \n\nHigh Mass will start at 10:30am\nMain Celebrant will Be: Archbishop Raphael P’mony Wokorach\, Archbishop of Gulu
URL:https://ourladyofafrica.org/event/mbuya-parish-day-celebrations/
CATEGORIES:church
END:VEVENT
BEGIN:VEVENT
DTSTART;TZID=Africa/Nairobi:20250810T130000
DTEND;TZID=Africa/Nairobi:20250810T140000
DTSTAMP:20260419T165023
CREATED:20240724T024137Z
LAST-MODIFIED:20250401T134113Z
UID:25333-1754830800-1754834400@ourladyofafrica.org
SUMMARY:Infant Baptism Mass
DESCRIPTION:Infant Baptism for August \n\nBaptism Mass at 1:00pm\nParents and God Parents must attend Baptism Classes\nContact Prof. Patrick Ogwok – +256772647968 or +256754216202
URL:https://ourladyofafrica.org/event/infant-baptism-mass-3/
END:VEVENT
BEGIN:VEVENT
DTSTART;VALUE=DATE:20250809
DTEND;VALUE=DATE:20250810
DTSTAMP:20260419T165023
CREATED:20250504T152744Z
LAST-MODIFIED:20250805T182921Z
UID:27181-1754697600-1754783999@ourladyofafrica.org
SUMMARY:Mbuya Parish Pilgrimage to Nabulagala Parish
DESCRIPTION:Mbuya Parish Pilgrimage to Mapeera Nabulagala Parish \n \n\nDate: 9th August 2025\nTime: Foot Pilgrims – 6:30am\n    Vehicle Pilgrims  – 7:30am\nVenue for Departure – Mbuya Parish\nFee for Vehicle Pilgrims: 10\,000 UGX\nRegister with Joseph +256702337711 before Friday 08th August 2025 for planning purposes.\n\n  \n  \n  \n 
URL:https://ourladyofafrica.org/event/mbuya-parish-pilgrimage-to-nabulagala-parish/
LOCATION:Mapeera Nabulagala Parish
CATEGORIES:PILGRIMAGE
END:VEVENT
BEGIN:VEVENT
DTSTART;TZID=UTC:20250803T000000
DTEND;TZID=UTC:20250803T000000
DTSTAMP:20260419T165023
CREATED:20240724T024241Z
LAST-MODIFIED:20250226T124542Z
UID:25365-1754179200-1754179200@ourladyofafrica.org
SUMMARY:Kinawataka Sub-Parish Pilgrimage to the Parish
DESCRIPTION:St. Joseph Mukasa Balikuddembe Sub-Parish Kinawataka \n 
URL:https://ourladyofafrica.org/event/st-joseph-mukasa-balikuddembe-sub-parish-kinawataka/
END:VEVENT
BEGIN:VEVENT
DTSTART;TZID=Africa/Nairobi:20250713T130000
DTEND;TZID=Africa/Nairobi:20250713T140000
DTSTAMP:20260419T165023
CREATED:20240724T024140Z
LAST-MODIFIED:20250401T133820Z
UID:25342-1752411600-1752415200@ourladyofafrica.org
SUMMARY:Infant Baptism for July
DESCRIPTION:Infant Baptism for July \n\nBaptism Mass at 1:00pm\nParents and God Parents must attend Baptism Classes\nContact Prof. Patrick Ogwok – +256772647968 or +256754216202
URL:https://ourladyofafrica.org/event/infant-baptism-for-may-2/
END:VEVENT
BEGIN:VEVENT
DTSTART;TZID=UTC:20250713T070000
DTEND;TZID=UTC:20250713T170000
DTSTAMP:20260419T165023
CREATED:20240724T024226Z
LAST-MODIFIED:20250227T063727Z
UID:25361-1752390000-1752426000@ourladyofafrica.org
SUMMARY:Missionary Holy Childhood
DESCRIPTION:Missionary Holy Childhood Sunday
URL:https://ourladyofafrica.org/event/missionary-holy-childhood/
END:VEVENT
BEGIN:VEVENT
DTSTART;TZID=UTC:20250629T093000
DTEND;TZID=UTC:20250629T170000
DTSTAMP:20260419T165023
CREATED:20240724T024241Z
LAST-MODIFIED:20250227T053459Z
UID:25366-1751189400-1751216400@ourladyofafrica.org
SUMMARY:St. Paul Banda Sub-Parish Day
DESCRIPTION:St. Paul Banda Sub-Parish Day
URL:https://ourladyofafrica.org/event/st-paul-banda-sub-parish-day/
END:VEVENT
BEGIN:VEVENT
DTSTART;TZID=UTC:20250603T100000
DTEND;TZID=UTC:20250603T130000
DTSTAMP:20260419T165023
CREATED:20250504T150629Z
LAST-MODIFIED:20250527T135635Z
UID:27178-1748944800-1748955600@ourladyofafrica.org
SUMMARY:Uganda Martyrs Day Celebrations 2025
DESCRIPTION:Uganda Martyrs Day Celebrations 2025 \n\nNamugongo Martyrs Shrine\nHoly Mass will start at Namugongo at 10:00am\nIt will be Livestreamed for those who are not Traveling to Namugongo. Below is the MASS LINK
URL:https://ourladyofafrica.org/event/uganda-martyrs-day-celebrations-2025/
LOCATION:Uganda Martyrs Shrine Namugongo\, P.O BOX 6562\, kampala\, Kampala\, 256\, Uganda
END:VEVENT
BEGIN:VEVENT
DTSTART;TZID=UTC:20250601T140000
DTEND;TZID=UTC:20250601T183000
DTSTAMP:20260419T165023
CREATED:20240724T024241Z
LAST-MODIFIED:20250226T124054Z
UID:25364-1748786400-1748802600@ourladyofafrica.org
SUMMARY:Marian / Martyrs Concert
DESCRIPTION:St. Joseph Mukasa Kinawataka Sub-Parish \n\nOrganized by Immaculate Conception Choir Kinawataka
URL:https://ourladyofafrica.org/event/marian-martyrs-concert/
END:VEVENT
BEGIN:VEVENT
DTSTART;TZID=Africa/Nairobi:20250601T130000
DTEND;TZID=Africa/Nairobi:20250601T140000
DTSTAMP:20260419T165023
CREATED:20240724T024140Z
LAST-MODIFIED:20250401T133354Z
UID:25341-1748782800-1748786400@ourladyofafrica.org
SUMMARY:Infant Baptism Mass
DESCRIPTION:Infant Baptism Mass \n\nDuring the 1:00pm Mass\nParents and Godparents must have attended Baptism Classes\nContact Prof. Patrick Ogwok – +256772647968 or +256754216202
URL:https://ourladyofafrica.org/event/infant-baptism-mass-2/
END:VEVENT
END:VCALENDAR